BEGIN:VCALENDAR
VERSION:2.0
PRODID:-//Mainzer Carneval Club - ECPv6.15.20//NONSGML v1.0//EN
CALSCALE:GREGORIAN
METHOD:PUBLISH
X-ORIGINAL-URL:https://www.mainzercarneval.club
X-WR-CALDESC:Veranstaltungen für Mainzer Carneval Club
REFRESH-INTERVAL;VALUE=DURATION:PT1H
X-Robots-Tag:noindex
X-PUBLISHED-TTL:PT1H
BEGIN:VTIMEZONE
TZID:Europe/Berlin
BEGIN:DAYLIGHT
TZOFFSETFROM:+0100
TZOFFSETTO:+0200
TZNAME:CEST
DTSTART:20230326T010000
END:DAYLIGHT
BEGIN:STANDARD
TZOFFSETFROM:+0200
TZOFFSETTO:+0100
TZNAME:CET
DTSTART:20231029T010000
END:STANDARD
BEGIN:DAYLIGHT
TZOFFSETFROM:+0100
TZOFFSETTO:+0200
TZNAME:CEST
DTSTART:20240331T010000
END:DAYLIGHT
BEGIN:STANDARD
TZOFFSETFROM:+0200
TZOFFSETTO:+0100
TZNAME:CET
DTSTART:20241027T010000
END:STANDARD
BEGIN:DAYLIGHT
TZOFFSETFROM:+0100
TZOFFSETTO:+0200
TZNAME:CEST
DTSTART:20250330T010000
END:DAYLIGHT
BEGIN:STANDARD
TZOFFSETFROM:+0200
TZOFFSETTO:+0100
TZNAME:CET
DTSTART:20251026T010000
END:STANDARD
END:VTIMEZONE
BEGIN:VEVENT
DTSTART;TZID=Europe/Berlin:20240203T000000
DTEND;TZID=Europe/Berlin:20240203T235959
DTSTAMP:20260423T145115
CREATED:20230501T131815Z
LAST-MODIFIED:20231211T101246Z
UID:3927-1706918400-1707004799@www.mainzercarneval.club
SUMMARY:MCC/MCV-Gemeinschaftssitzung 2024
DESCRIPTION:Die traditionsreiche Gemeinschaftssitzung der fastnachtlichen Schwergewichte MCC und MCV. \n\n\n\nZur Kartenbestellung (der Link öffnet sich in einem neuen Fenster)
URL:https://www.mainzercarneval.club/event/mcc-mcv-gemeinschaftssitzung-2024/
LOCATION:Rheingoldhalle\, Kongress-Saal\, Rheinstraße 66\, Mainz\, 55116\, Deutschland
END:VEVENT
BEGIN:VEVENT
DTSTART;TZID=Europe/Berlin:20240207T190000
DTEND;TZID=Europe/Berlin:20240207T230000
DTSTAMP:20260423T145115
CREATED:20230501T133010Z
LAST-MODIFIED:20230822T092539Z
UID:3933-1707332400-1707346800@www.mainzercarneval.club
SUMMARY:"Mainz bleibt Mainz…" - Generalprobe 2024
DESCRIPTION:Die Generalprobe zur Mutter aller Fernsehsitzungen.
URL:https://www.mainzercarneval.club/event/mainz-bleibt-mainz-generalprobe-2024/
LOCATION:Kurfürstliches Schloss\, Peter-Altmeier-Allee 1\, Mainz\, 55116\, Deutschland
END:VEVENT
BEGIN:VEVENT
DTSTART;TZID=Europe/Berlin:20240209T200000
DTEND;TZID=Europe/Berlin:20240209T233000
DTSTAMP:20260423T145115
CREATED:20230501T132548Z
LAST-MODIFIED:20230822T092515Z
UID:3931-1707508800-1707521400@www.mainzercarneval.club
SUMMARY:"Mainz bleibt Mainz..." - Fernsehsitzung 2024
DESCRIPTION:Die Mutter aller Fernsehsitzungen live im ZDF aus dem Kurfürstlichen Schloss zu Mainz.
URL:https://www.mainzercarneval.club/event/mainz-bleibt-mainz-fernsehsitzung-2024/
LOCATION:Kurfürstliches Schloss\, Peter-Altmeier-Allee 1\, Mainz\, 55116\, Deutschland
END:VEVENT
BEGIN:VEVENT
DTSTART;TZID=Europe/Berlin:20240210T000000
DTEND;TZID=Europe/Berlin:20240210T235959
DTSTAMP:20260423T145115
CREATED:20230501T132350Z
LAST-MODIFIED:20231219T085508Z
UID:3929-1707523200-1707609599@www.mainzercarneval.club
SUMMARY:MCC-Finale 2024
DESCRIPTION:Das große Finale der MCC-Saalfastnacht in der Jubiläumskampagne 2024. \n\n\n\nEintritt: 47\,- / 41\,- / 32\,- Euro \n\n\n\nZur Kartenbestellung (der Link öffnet sich in einem neuen Fenster)
URL:https://www.mainzercarneval.club/event/mcc-finale-2024/
END:VEVENT
END:VCALENDAR