BEGIN:VCALENDAR
VERSION:2.0
PRODID:-//Mainzer Carneval Club - ECPv6.15.20//NONSGML v1.0//EN
CALSCALE:GREGORIAN
METHOD:PUBLISH
X-WR-CALNAME:Mainzer Carneval Club
X-ORIGINAL-URL:https://www.mainzercarneval.club
X-WR-CALDESC:Veranstaltungen für Mainzer Carneval Club
REFRESH-INTERVAL;VALUE=DURATION:PT1H
X-Robots-Tag:noindex
X-PUBLISHED-TTL:PT1H
BEGIN:VTIMEZONE
TZID:Europe/Berlin
BEGIN:DAYLIGHT
TZOFFSETFROM:+0100
TZOFFSETTO:+0200
TZNAME:CEST
DTSTART:20240331T010000
END:DAYLIGHT
BEGIN:STANDARD
TZOFFSETFROM:+0200
TZOFFSETTO:+0100
TZNAME:CET
DTSTART:20241027T010000
END:STANDARD
BEGIN:DAYLIGHT
TZOFFSETFROM:+0100
TZOFFSETTO:+0200
TZNAME:CEST
DTSTART:20250330T010000
END:DAYLIGHT
BEGIN:STANDARD
TZOFFSETFROM:+0200
TZOFFSETTO:+0100
TZNAME:CET
DTSTART:20251026T010000
END:STANDARD
BEGIN:DAYLIGHT
TZOFFSETFROM:+0100
TZOFFSETTO:+0200
TZNAME:CEST
DTSTART:20260329T010000
END:DAYLIGHT
BEGIN:STANDARD
TZOFFSETFROM:+0200
TZOFFSETTO:+0100
TZNAME:CET
DTSTART:20261025T010000
END:STANDARD
END:VTIMEZONE
BEGIN:VEVENT
DTSTART;TZID=Europe/Berlin:20250201T000000
DTEND;TZID=Europe/Berlin:20250201T235959
DTSTAMP:20260423T230437
CREATED:20240303T124538Z
LAST-MODIFIED:20250121T215504Z
UID:4292-1738368000-1738454399@www.mainzercarneval.club
SUMMARY:1. Prunkfremdensitzung 2025
DESCRIPTION:Unsere erste reguläre Sitzung der Kampagne 2025 in der „Gut Stubb“ von Mainz… \n\n\n\nEintritt: 47\,- / 41\,- / 32\,- Euro \n\n\n\nBeginn: 18.11 Uhr \nSaalöffnung: 17.11 Uhr \n\n\n\nZur Kartenbestellung (Der Link öffnet in einem neuen Fenster)
URL:https://www.mainzercarneval.club/event/1-prunkfremdensitzung-2025/
LOCATION:Kurfürstliches Schloss\, Peter-Altmeier-Allee 1\, Mainz\, 55116\, Deutschland
END:VEVENT
BEGIN:VEVENT
DTSTART;TZID=Europe/Berlin:20250206T000000
DTEND;TZID=Europe/Berlin:20250206T235959
DTSTAMP:20260423T230437
CREATED:20240206T223746Z
LAST-MODIFIED:20250121T222421Z
UID:4223-1738800000-1738886399@www.mainzercarneval.club
SUMMARY:MCC Narrenschiff 2025
DESCRIPTION:BREAKING NEWS – NARRENSCHIFF 2025 – BREAKING NEWS – NARRENSCHIFF 2025 -BREAKING NEWS – NARRENSCHIFF 2025-BREAKING NEWS – NARRENSCHIFF 2025 -BREAKING NEWS – NARRENSCHIFF 2025-BREAKING NEWS – NARRENSCHIFF 2025-BREAKING NEWS – NARRENSCHIFF 2025 \n\n\n\nWas war das ein HAMMER Abend\, wer nicht dabei war\, hat definitiv was verpasst.Und deshalb stechen wir 2025 wieder in See. \n\n\n\n— ausverkauft — \n\n\n\nKarten für das Narrenschiff 2026 könnt Ihr voraussichtlich ab dem 7. Februar 2025 kaufen.
URL:https://www.mainzercarneval.club/event/mcc-narrenschiff-2025/
LOCATION:Mainzer Rheinufer\, Stresemann-Ufer\, 55116\, Deutschland
ATTACH;FMTTYPE=image/jpeg:https://www.mainzercarneval.club/wp-content/uploads/2018/08/Kontakt-768x347-1.jpg
END:VEVENT
BEGIN:VEVENT
DTSTART;TZID=Europe/Berlin:20250208T000000
DTEND;TZID=Europe/Berlin:20250208T235959
DTSTAMP:20260423T230437
CREATED:20240303T124707Z
LAST-MODIFIED:20250121T215422Z
UID:4294-1738972800-1739059199@www.mainzercarneval.club
SUMMARY:2. Prunkfremdensitzung 2025
DESCRIPTION:Unsere zweite Prunksitzung in der Kampagne 2025 in der „Gut Stubb“ von Mainz… \n\n\n\nEintritt: 47\,- / 41\,- / 32\,- Euro \n\n\n\nBeginn: 18.11 Uhr \nSaalöffnung: 17.11 Uhr \n\n\n\nZur Kartenbestellung (Der Link öffnet in einem neuen Fenster)
URL:https://www.mainzercarneval.club/event/2-prunkfremdensitzung-2025/
LOCATION:Kurfürstliches Schloss\, Peter-Altmeier-Allee 1\, Mainz\, 55116\, Deutschland
END:VEVENT
BEGIN:VEVENT
DTSTART;TZID=Europe/Berlin:20250222T000000
DTEND;TZID=Europe/Berlin:20250222T235959
DTSTAMP:20260423T230437
CREATED:20240303T124831Z
LAST-MODIFIED:20250121T215325Z
UID:4296-1740182400-1740268799@www.mainzercarneval.club
SUMMARY:MCC/MCV Gemeinschaftssitzung 2025
DESCRIPTION:Die traditionsreiche Gemeinschaftssitzung der fastnachtlichen Schwergewichte MCC und MCV. \n\n\n\nBeginn: 18.11 Uhr \nSaalöffnung: 17.11 Uhr \n\n\n\nZur Kartenbestellung (Der Link öffnet in einem neuen Fenster)
URL:https://www.mainzercarneval.club/event/mcc-mcv-gemeinschaftssitzung-2025/
LOCATION:Rheingoldhalle\, Kongress-Saal\, Rheinstraße 66\, Mainz\, 55116\, Deutschland
END:VEVENT
BEGIN:VEVENT
DTSTART;TZID=Europe/Berlin:20250223T000000
DTEND;TZID=Europe/Berlin:20250223T235959
DTSTAMP:20260423T230437
CREATED:20240303T125239Z
LAST-MODIFIED:20240303T125241Z
UID:4298-1740268800-1740355199@www.mainzercarneval.club
SUMMARY:Freiluftnarrhalla - Fastnacht für alle
DESCRIPTION:Eine kostenfreie Sitzung des GCV\, MCC und der Mainzer Prinzengarde auf dem Mainzer Bischofsplatz.
URL:https://www.mainzercarneval.club/event/freiluftnarrhalla-fastnacht-fuer-alle/
LOCATION:Bischofsplatz Mainz\, Johannisstraße\, Mainz\, 55116\, Deutschland
END:VEVENT
BEGIN:VEVENT
DTSTART;TZID=Europe/Berlin:20250226T000000
DTEND;TZID=Europe/Berlin:20250226T235959
DTSTAMP:20260423T230437
CREATED:20240303T125406Z
LAST-MODIFIED:20240303T125409Z
UID:4302-1740528000-1740614399@www.mainzercarneval.club
SUMMARY:„Mainz bleibt Mainz…“ – Generalprobe 2025
DESCRIPTION:Die Generalprobe zur Mutter aller Fernsehsitzungen
URL:https://www.mainzercarneval.club/event/mainz-bleibt-mainz-generalprobe-2025/
LOCATION:Kurfürstliches Schloss\, Peter-Altmeier-Allee 1\, Mainz\, 55116\, Deutschland
END:VEVENT
BEGIN:VEVENT
DTSTART;TZID=Europe/Berlin:20250228T000000
DTEND;TZID=Europe/Berlin:20250228T235959
DTSTAMP:20260423T230437
CREATED:20240303T125507Z
LAST-MODIFIED:20240303T125510Z
UID:4304-1740700800-1740787199@www.mainzercarneval.club
SUMMARY:„Mainz bleibt Mainz…“ – Fernsehsitzung 2025
DESCRIPTION:Die Mutter aller Fernsehsitzungen live in der ARD aus dem Kurfürstlichen Schloss zu Mainz.
URL:https://www.mainzercarneval.club/event/mainz-bleibt-mainz-fernsehsitzung-2025/
LOCATION:Kurfürstliches Schloss\, Peter-Altmeier-Allee 1\, Mainz\, 55116\, Deutschland
END:VEVENT
END:VCALENDAR