BEGIN:VCALENDAR
VERSION:2.0
PRODID:-//Mainzer Carneval Club - ECPv6.15.20//NONSGML v1.0//EN
CALSCALE:GREGORIAN
METHOD:PUBLISH
X-ORIGINAL-URL:https://www.mainzercarneval.club
X-WR-CALDESC:Veranstaltungen für Mainzer Carneval Club
REFRESH-INTERVAL;VALUE=DURATION:PT1H
X-Robots-Tag:noindex
X-PUBLISHED-TTL:PT1H
BEGIN:VTIMEZONE
TZID:Europe/Berlin
BEGIN:DAYLIGHT
TZOFFSETFROM:+0100
TZOFFSETTO:+0200
TZNAME:CEST
DTSTART:20250330T010000
END:DAYLIGHT
BEGIN:STANDARD
TZOFFSETFROM:+0200
TZOFFSETTO:+0100
TZNAME:CET
DTSTART:20251026T010000
END:STANDARD
BEGIN:DAYLIGHT
TZOFFSETFROM:+0100
TZOFFSETTO:+0200
TZNAME:CEST
DTSTART:20260329T010000
END:DAYLIGHT
BEGIN:STANDARD
TZOFFSETFROM:+0200
TZOFFSETTO:+0100
TZNAME:CET
DTSTART:20261025T010000
END:STANDARD
BEGIN:DAYLIGHT
TZOFFSETFROM:+0100
TZOFFSETTO:+0200
TZNAME:CEST
DTSTART:20270328T010000
END:DAYLIGHT
BEGIN:STANDARD
TZOFFSETFROM:+0200
TZOFFSETTO:+0100
TZNAME:CET
DTSTART:20271031T010000
END:STANDARD
END:VTIMEZONE
BEGIN:VEVENT
DTSTART;TZID=Europe/Berlin:20260111T000000
DTEND;TZID=Europe/Berlin:20260111T235959
DTSTAMP:20260424T062456
CREATED:20250626T223233Z
LAST-MODIFIED:20260123T082210Z
UID:4590-1768089600-1768175999@www.mainzercarneval.club
SUMMARY:MCC Haubensitzung 2026
DESCRIPTION:Zum „alten Club“ vor hundert JahrenZogen\, ob jung\, ob alt\, in ScharenMänner mit Nachthauben verziertZur Haubensitzung ungeniertUnd leerten Flasche unn ihr GläsjerDamals als Basen und als Bäsjer. \n\n\n\nDer MCC\, er freut sich schon\,Wiederbelebt die TraditionIm nächsten Jahr. – Doch\, nicht von gestern\,mit Haubenbrüdern und mit -schwesternUnd hat dafür den\, Leit gebbt Acht\,Frankfurter Hof sich ausgedacht.Die Sitzung sieht mit viel HumorManch‘ Altes und auch Neues vor.Unn für de eigne AppetitBringt gerne Euer Esse mit! \nBeginn: 11.11 Uhr \nSaalöffnung: 10.11 Uhr \nAchtung: Neuer Veranstaltungsort! \n— Verkauf beendet —
URL:https://www.mainzercarneval.club/event/nostalgische-haubensitzung-2026/
LOCATION:Kolpinghaus Mainz\, Holzstraße 19\, Mainz\, 55116\, Germany
END:VEVENT
BEGIN:VEVENT
DTSTART;TZID=Europe/Berlin:20260116T000000
DTEND;TZID=Europe/Berlin:20260116T235959
DTSTAMP:20260424T062456
CREATED:20250203T143751Z
LAST-MODIFIED:20251218T213005Z
UID:4465-1768521600-1768607999@www.mainzercarneval.club
SUMMARY:Birnbaumsitzung 2026
DESCRIPTION:Die Sitzung des Mainzer Carneval Clubs aus dem alten Brauhaus „Zum Birnbaum“. Das Brauhaus war seinerzeit eine Institution in Mainz und weit über die Stadtgrenzen hinaus bekannt. Dies lag schon allein am Wirt\, dem berühmten Michael Geyer oder kurz Geyer Michel\, der in seinen beiden Ehen weit über 30 Kinder zeugte.Im Brauhaus „Zum Birnbaum“ in der Birnbaumgasse\, heute in etwa auf Höhe des städtischen Altersheimes\, tagten 1898 die Mitbegründer des MCC. Daher ist „der Club“ bis heute in Mainz als „Birnbaum-Club“ bekannt. 1899 schlossen sich die Stammtische „Birnbaum-Club“ und die sogenannten „humorisdische Dägge“\, also „humoristischen Türken“ zum Mainzer Carneval Club von 1899 zusammen.Lassen sie sich heute in die Zeit der ursprünglichen Kneipensitzungen entführen. Zurück zu den Wurzeln des MCC. Der Club präsentiert Määnzer Fassenacht in seiner ursprünglichsten Art. Mit einer Hommage an den Kult-Wirt\, Michael Geyer und mit einem bunten Querschnitt aus dem Besten\, was die Määnzer Fassenacht zu bieten hat. \n\n\n\nBeginn: 19.11 Uhr \nSaalöffnung: 18.11 Uhr \n\n\n\n— ausverkauft — \n 
URL:https://www.mainzercarneval.club/event/birnbaumsitzung-2026/
LOCATION:Kurfürstliches Schloss\, Peter-Altmeier-Allee 1\, Mainz\, 55116\, Deutschland
END:VEVENT
BEGIN:VEVENT
DTSTART;TZID=Europe/Berlin:20260117T000000
DTEND;TZID=Europe/Berlin:20260117T235959
DTSTAMP:20260424T062456
CREATED:20250203T144316Z
LAST-MODIFIED:20260123T082305Z
UID:4469-1768608000-1768694399@www.mainzercarneval.club
SUMMARY:1. Prunkfremdensitzung 2026
DESCRIPTION:Unsere erste reguläre Sitzung der Kampagne 2026 in der „Gut Stubb“ von Mainz… \n\n\n\nEintritt: 49\,- / 44\,- / 35\,- Euro \n\n\n\nBeginn: 18.11 Uhr \nSaalöffnung: 17.11 Uhr \n\n\n\n— Verkauf beendet — \n 
URL:https://www.mainzercarneval.club/event/1-prunkfremdensitzung-2026/
LOCATION:Kurfürstliches Schloss\, Peter-Altmeier-Allee 1\, Mainz\, 55116\, Deutschland
END:VEVENT
BEGIN:VEVENT
DTSTART;TZID=Europe/Berlin:20260122T000000
DTEND;TZID=Europe/Berlin:20260122T235959
DTSTAMP:20260424T062456
CREATED:20250203T160036Z
LAST-MODIFIED:20250210T093645Z
UID:4476-1769040000-1769126399@www.mainzercarneval.club
SUMMARY:MCC Narrenschiff 2026
DESCRIPTION:Einsingen auf Fassenacht! \n\n\n\nEinlass: 18.33 Uhr \nBeginn: 19.33 Uhr \n\n\n\n— ausverkauft — \n 
URL:https://www.mainzercarneval.club/event/mcc-narrenschiff-2026/
END:VEVENT
BEGIN:VEVENT
DTSTART;TZID=Europe/Berlin:20260130T000000
DTEND;TZID=Europe/Berlin:20260130T235959
DTSTAMP:20260424T062456
CREATED:20250203T160211Z
LAST-MODIFIED:20260408T080237Z
UID:4479-1769731200-1769817599@www.mainzercarneval.club
SUMMARY:2. Prunkfremdensitzung 2026
DESCRIPTION:Unsere zweite Prunksitzung in der Kampagne 2026\, dieses Mal im Gutenbergsaal der Rheingoldhalle… \n\n\n\nBeginn: 19.11 Uhr \n\n\n\nSaalöffnung: 18.11 Uhr \n\n\n\n— Verkauf beendet —
URL:https://www.mainzercarneval.club/event/2-prunkfremdensitzung-2026/
LOCATION:Rheingoldhalle\, Gutenberg-Saal\, Rheinstraße 66\, Mainz\, 55116\, Deutschland
END:VEVENT
END:VCALENDAR