BEGIN:VCALENDAR
VERSION:2.0
PRODID:-//Mainzer Carneval Club - ECPv6.15.20//NONSGML v1.0//EN
CALSCALE:GREGORIAN
METHOD:PUBLISH
X-WR-CALNAME:Mainzer Carneval Club
X-ORIGINAL-URL:https://www.mainzercarneval.club
X-WR-CALDESC:Veranstaltungen für Mainzer Carneval Club
REFRESH-INTERVAL;VALUE=DURATION:PT1H
X-Robots-Tag:noindex
X-PUBLISHED-TTL:PT1H
BEGIN:VTIMEZONE
TZID:Europe/Berlin
BEGIN:DAYLIGHT
TZOFFSETFROM:+0100
TZOFFSETTO:+0200
TZNAME:CEST
DTSTART:20250330T010000
END:DAYLIGHT
BEGIN:STANDARD
TZOFFSETFROM:+0200
TZOFFSETTO:+0100
TZNAME:CET
DTSTART:20251026T010000
END:STANDARD
BEGIN:DAYLIGHT
TZOFFSETFROM:+0100
TZOFFSETTO:+0200
TZNAME:CEST
DTSTART:20260329T010000
END:DAYLIGHT
BEGIN:STANDARD
TZOFFSETFROM:+0200
TZOFFSETTO:+0100
TZNAME:CET
DTSTART:20261025T010000
END:STANDARD
BEGIN:DAYLIGHT
TZOFFSETFROM:+0100
TZOFFSETTO:+0200
TZNAME:CEST
DTSTART:20270328T010000
END:DAYLIGHT
BEGIN:STANDARD
TZOFFSETFROM:+0200
TZOFFSETTO:+0100
TZNAME:CET
DTSTART:20271031T010000
END:STANDARD
END:VTIMEZONE
BEGIN:VEVENT
DTSTART;TZID=Europe/Berlin:20260207T000000
DTEND;TZID=Europe/Berlin:20260207T235959
DTSTAMP:20260424T074818
CREATED:20250203T160408Z
LAST-MODIFIED:20260408T075201Z
UID:4481-1770422400-1770508799@www.mainzercarneval.club
SUMMARY:MCC/MCV Gemeinschaftssitzung 2026
DESCRIPTION:Die traditionsreiche Gemeinschaftssitzung der fastnachtlichen Schwergewichte MCC und MCV. \n\n\n\nBeginn: 18.11 Uhr \n\n\n\nSaalöffnung: 17.11 Uhr \nVerkauf beendet
URL:https://www.mainzercarneval.club/event/mcc-mcv-gemeinschaftssitzung-2026/
LOCATION:Rheingoldhalle\, Kongress-Saal\, Rheinstraße 66\, Mainz\, 55116\, Deutschland
END:VEVENT
BEGIN:VEVENT
DTSTART;TZID=Europe/Berlin:20260211T000000
DTEND;TZID=Europe/Berlin:20260211T235959
DTSTAMP:20260424T074818
CREATED:20250203T160601Z
LAST-MODIFIED:20250209T163839Z
UID:4483-1770768000-1770854399@www.mainzercarneval.club
SUMMARY:„Mainz bleibt Mainz…“ – Generalprobe 2026
DESCRIPTION:Die Generalprobe zur Mutter aller Fernsehsitzungen \n\n\n\n— ausverkauft —
URL:https://www.mainzercarneval.club/event/mainz-bleibt-mainz-generalprobe-2026/
LOCATION:Kurfürstliches Schloss\, Peter-Altmeier-Allee 1\, Mainz\, 55116\, Deutschland
END:VEVENT
BEGIN:VEVENT
DTSTART;TZID=Europe/Berlin:20260213T000000
DTEND;TZID=Europe/Berlin:20260213T235959
DTSTAMP:20260424T074818
CREATED:20250203T160700Z
LAST-MODIFIED:20260106T153457Z
UID:4485-1770940800-1771027199@www.mainzercarneval.club
SUMMARY:„Mainz bleibt Mainz…“ – Fernsehsitzung 2026
DESCRIPTION:Die Mutter aller Fernsehsitzungen live im ZDF aus dem Kurfürstlichen Schloss zu Mainz \n\n\n\n— ausverkauft —
URL:https://www.mainzercarneval.club/event/mainz-bleibt-mainz-fernsehsitzung-2026/
LOCATION:Kurfürstliches Schloss\, Peter-Altmeier-Allee 1\, Mainz\, 55116\, Deutschland
END:VEVENT
BEGIN:VEVENT
DTSTART;TZID=Europe/Berlin:20260214T000000
DTEND;TZID=Europe/Berlin:20260214T235959
DTSTAMP:20260424T074818
CREATED:20250203T160812Z
LAST-MODIFIED:20260123T082139Z
UID:4487-1771027200-1771113599@www.mainzercarneval.club
SUMMARY:MCC-Finale 2026
DESCRIPTION:Das große Finale der MCC-Saalfastnacht in der Kampagne 2026. \n\n\n\nBeginn: 18.11 Uhr \n\n\n\nSaalöffnung: 17.11 Uhr \n\n\n\n— ausverkauft — \n 
URL:https://www.mainzercarneval.club/event/mcc-finale-2026/
LOCATION:Kurfürstliches Schloss\, Peter-Altmeier-Allee 1\, Mainz\, 55116\, Deutschland
END:VEVENT
END:VCALENDAR