BEGIN:VCALENDAR
VERSION:2.0
PRODID:-//Mainzer Carneval Club - ECPv6.15.20//NONSGML v1.0//EN
CALSCALE:GREGORIAN
METHOD:PUBLISH
X-ORIGINAL-URL:https://www.mainzercarneval.club
X-WR-CALDESC:Veranstaltungen für Mainzer Carneval Club
REFRESH-INTERVAL;VALUE=DURATION:PT1H
X-Robots-Tag:noindex
X-PUBLISHED-TTL:PT1H
BEGIN:VTIMEZONE
TZID:Europe/Berlin
BEGIN:DAYLIGHT
TZOFFSETFROM:+0100
TZOFFSETTO:+0200
TZNAME:CEST
DTSTART:20260329T010000
END:DAYLIGHT
BEGIN:STANDARD
TZOFFSETFROM:+0200
TZOFFSETTO:+0100
TZNAME:CET
DTSTART:20261025T010000
END:STANDARD
BEGIN:DAYLIGHT
TZOFFSETFROM:+0100
TZOFFSETTO:+0200
TZNAME:CEST
DTSTART:20270328T010000
END:DAYLIGHT
BEGIN:STANDARD
TZOFFSETFROM:+0200
TZOFFSETTO:+0100
TZNAME:CET
DTSTART:20271031T010000
END:STANDARD
BEGIN:DAYLIGHT
TZOFFSETFROM:+0100
TZOFFSETTO:+0200
TZNAME:CEST
DTSTART:20280326T010000
END:DAYLIGHT
BEGIN:STANDARD
TZOFFSETFROM:+0200
TZOFFSETTO:+0100
TZNAME:CET
DTSTART:20281029T010000
END:STANDARD
END:VTIMEZONE
BEGIN:VEVENT
DTSTART;TZID=Europe/Berlin:20270109T000000
DTEND;TZID=Europe/Berlin:20270109T235959
DTSTAMP:20260424T105715
CREATED:20260408T080552Z
LAST-MODIFIED:20260408T080554Z
UID:4829-1799452800-1799539199@www.mainzercarneval.club
SUMMARY:1. Prunkfremdensitzung 2027
DESCRIPTION:Unsere erste reguläre Sitzung der Kampagne 2027 in der „Gut Stubb“ von Mainz… \n\n\n\nBeginn: 18.11 Uhr \nSaalöffnung: 17.11 Uhr \n\n\n\nZur Kartenbestellung (Der Link öffnet sich in einem neuen Fenster) \n  \n 
URL:https://www.mainzercarneval.club/event/1-prunkfremdensitzung-2027/
LOCATION:Kurfürstliches Schloss\, Peter-Altmeier-Allee 1\, Mainz\, 55116\, Deutschland
END:VEVENT
BEGIN:VEVENT
DTSTART;TZID=Europe/Berlin:20270114T000000
DTEND;TZID=Europe/Berlin:20270114T235959
DTSTAMP:20260424T105715
CREATED:20260123T081223Z
LAST-MODIFIED:20260408T074342Z
UID:4742-1799884800-1799971199@www.mainzercarneval.club
SUMMARY:MCC Narrenschiff 2027
DESCRIPTION:Einsingen auf Fassenacht! \n\n\n\nEinlass: 18.33 Uhr \nBeginn: 19.33 Uhr \n\n\n\nZur Kartenbestellung (Der Link öffnet sich in einem neuen Fenster) \n  \n 
URL:https://www.mainzercarneval.club/event/mcc-narrenschiff-2027/
LOCATION:Mainzer Rheinufer\, Stresemann-Ufer\, 55116\, Deutschland
END:VEVENT
BEGIN:VEVENT
DTSTART;TZID=Europe/Berlin:20270115T000000
DTEND;TZID=Europe/Berlin:20270115T235959
DTSTAMP:20260424T105715
CREATED:20260408T075946Z
LAST-MODIFIED:20260408T080044Z
UID:4825-1799971200-1800057599@www.mainzercarneval.club
SUMMARY:2. Prunkfremdensitzung 2027
DESCRIPTION:Unsere zweite Prunksitzung in der Kampagne 2026\, dieses Mal im Gutenbergsaal der Rheingoldhalle… \n\n\n\nBeginn: 19.11 Uhr \n\n\n\nSaalöffnung: 18.11 Uhr \n\n\n\nZur Kartenbestellung (Der Link öffnet sich in einem neuen Fenster) \n 
URL:https://www.mainzercarneval.club/event/2-prunkfremdensitzung-2027/
LOCATION:Rheingoldhalle\, Gutenberg-Saal\, Rheinstraße 66\, Mainz\, 55116\, Deutschland
END:VEVENT
BEGIN:VEVENT
DTSTART;TZID=Europe/Berlin:20270122T000000
DTEND;TZID=Europe/Berlin:20270122T235959
DTSTAMP:20260424T105715
CREATED:20260202T072426Z
LAST-MODIFIED:20260408T074430Z
UID:4761-1800576000-1800662399@www.mainzercarneval.club
SUMMARY:Birnbaumsitzung 2027
DESCRIPTION:Die Sitzung des Mainzer Carneval Clubs aus dem alten Brauhaus „Zum Birnbaum“. Das Brauhaus war seinerzeit eine Institution in Mainz und weit über die Stadtgrenzen hinaus bekannt. Dies lag schon allein am Wirt\, dem berühmten Michael Geyer oder kurz Geyer Michel\, der in seinen beiden Ehen weit über 30 Kinder zeugte.Im Brauhaus „Zum Birnbaum“ in der Birnbaumgasse\, heute in etwa auf Höhe des städtischen Altersheimes\, tagten 1898 die Mitbegründer des MCC. Daher ist „der Club“ bis heute in Mainz als „Birnbaum-Club“ bekannt. 1899 schlossen sich die Stammtische „Birnbaum-Club“ und die sogenannten „humorisdische Dägge“\, also „humoristischen Türken“ zum Mainzer Carneval Club von 1899 zusammen.Lassen sie sich heute in die Zeit der ursprünglichen Kneipensitzungen entführen. Zurück zu den Wurzeln des MCC. Der Club präsentiert Määnzer Fassenacht in seiner ursprünglichsten Art. Mit einer Hommage an den Kult-Wirt\, Michael Geyer und mit einem bunten Querschnitt aus dem Besten\, was die Määnzer Fassenacht zu bieten hat. \n\n\n\nBeginn: 19.11 Uhr \nSaalöffnung: 18.11 Uhr \nZur Kartenbestellung (Der Link öffnet in einem neuen Fenster)
URL:https://www.mainzercarneval.club/event/birnbaumsitzung-2027/
LOCATION:Kurfürstliches Schloss\, Peter-Altmeier-Allee 1\, Mainz\, 55116\, Deutschland
END:VEVENT
BEGIN:VEVENT
DTSTART;TZID=Europe/Berlin:20270130T000000
DTEND;TZID=Europe/Berlin:20270130T235959
DTSTAMP:20260424T105715
CREATED:20260408T075136Z
LAST-MODIFIED:20260408T075137Z
UID:4822-1801267200-1801353599@www.mainzercarneval.club
SUMMARY:MCC/MCV Gemeinschaftssitzung 2027
DESCRIPTION:Die traditionsreiche Gemeinschaftssitzung der fastnachtlichen Schwergewichte MCC und MCV. \n\n\n\nBeginn: 18.11 Uhr \n\n\n\nSaalöffnung: 17.11 Uhr \nZur Kartenbestellung (Der Link öffnet in einem neuen Fenster) \n 
URL:https://www.mainzercarneval.club/event/mcc-mcv-gemeinschaftssitzung-2027/
LOCATION:Rheingoldhalle\, Kongress-Saal\, Rheinstraße 66\, Mainz\, 55116\, Deutschland
END:VEVENT
END:VCALENDAR